BEGIN:VCALENDAR
VERSION:2.0
PRODID:-//NADI Kampung Pantai Merchang - ECPv6.15.20//NONSGML v1.0//EN
CALSCALE:GREGORIAN
METHOD:PUBLISH
X-WR-CALNAME:NADI Kampung Pantai Merchang
X-ORIGINAL-URL:https://kgpantaimerchang.nadi.my
X-WR-CALDESC:Events for NADI Kampung Pantai Merchang
REFRESH-INTERVAL;VALUE=DURATION:PT1H
X-Robots-Tag:noindex
X-PUBLISHED-TTL:PT1H
BEGIN:VTIMEZONE
TZID:UTC
BEGIN:STANDARD
TZOFFSETFROM:+0000
TZOFFSETTO:+0000
TZNAME:UTC
DTSTART:20210101T000000
END:STANDARD
END:VTIMEZONE
BEGIN:VEVENT
DTSTART;TZID=UTC:20221201T090000
DTEND;TZID=UTC:20221201T170000
DTSTAMP:20260424T151708
CREATED:20221124T181658Z
LAST-MODIFIED:20221124T181658Z
UID:5881-1669885200-1669914000@kgpantaimerchang.nadi.my
SUMMARY:KELAS MEMBUAT RESUME
DESCRIPTION:
URL:https://kgpantaimerchang.nadi.my/event/kelas-membuat-resume-8/
CATEGORIES:DEFAULT
END:VEVENT
BEGIN:VEVENT
DTSTART;TZID=UTC:20221201T090000
DTEND;TZID=UTC:20221201T170000
DTSTAMP:20260424T151708
CREATED:20221124T181658Z
LAST-MODIFIED:20221124T181658Z
UID:5696-1669885200-1669914000@kgpantaimerchang.nadi.my
SUMMARY:KELAS MEMBUAT RESUME
DESCRIPTION:
URL:https://kgpantaimerchang.nadi.my/event/kelas-membuat-resume-2/
CATEGORIES:DEFAULT
END:VEVENT
BEGIN:VEVENT
DTSTART;TZID=UTC:20221201T090000
DTEND;TZID=UTC:20221201T170000
DTSTAMP:20260424T151708
CREATED:20221124T181658Z
LAST-MODIFIED:20221124T181658Z
UID:5980-1669885200-1669914000@kgpantaimerchang.nadi.my
SUMMARY:KELAS MEMBUAT RESUME
DESCRIPTION:
URL:https://kgpantaimerchang.nadi.my/event/kelas-membuat-resume-14/
CATEGORIES:DEFAULT
END:VEVENT
BEGIN:VEVENT
DTSTART;TZID=UTC:20221208T090000
DTEND;TZID=UTC:20221208T170000
DTSTAMP:20260424T151708
CREATED:20221124T181732Z
LAST-MODIFIED:20221124T181732Z
UID:5981-1670490000-1670518800@kgpantaimerchang.nadi.my
SUMMARY:KELAS MICROSOFT SKILL
DESCRIPTION:
URL:https://kgpantaimerchang.nadi.my/event/kelas-microsoft-skill-10/
CATEGORIES:DEFAULT
END:VEVENT
BEGIN:VEVENT
DTSTART;TZID=UTC:20221208T090000
DTEND;TZID=UTC:20221208T170000
DTSTAMP:20260424T151708
CREATED:20221124T181732Z
LAST-MODIFIED:20221124T181732Z
UID:5882-1670490000-1670518800@kgpantaimerchang.nadi.my
SUMMARY:KELAS MICROSOFT SKILL
DESCRIPTION:
URL:https://kgpantaimerchang.nadi.my/event/kelas-microsoft-skill-6/
CATEGORIES:DEFAULT
END:VEVENT
BEGIN:VEVENT
DTSTART;TZID=UTC:20221208T090000
DTEND;TZID=UTC:20221208T170000
DTSTAMP:20260424T151708
CREATED:20221124T181732Z
LAST-MODIFIED:20221124T181732Z
UID:5697-1670490000-1670518800@kgpantaimerchang.nadi.my
SUMMARY:KELAS MICROSOFT SKILL
DESCRIPTION:
URL:https://kgpantaimerchang.nadi.my/event/kelas-microsoft-skill-2/
CATEGORIES:DEFAULT
END:VEVENT
BEGIN:VEVENT
DTSTART;TZID=UTC:20221212T090000
DTEND;TZID=UTC:20221212T170000
DTSTAMP:20260424T151708
CREATED:20221124T181817Z
LAST-MODIFIED:20221124T181817Z
UID:5982-1670835600-1670864400@kgpantaimerchang.nadi.my
SUMMARY:KELAS PERSEDIAAN MENJAWAB EXAM ONLINE
DESCRIPTION:
URL:https://kgpantaimerchang.nadi.my/event/kelas-persediaan-menjawab-exam-online-3/
CATEGORIES:DEFAULT
END:VEVENT
BEGIN:VEVENT
DTSTART;TZID=UTC:20221212T090000
DTEND;TZID=UTC:20221212T170000
DTSTAMP:20260424T151708
CREATED:20221124T181817Z
LAST-MODIFIED:20221124T181817Z
UID:5883-1670835600-1670864400@kgpantaimerchang.nadi.my
SUMMARY:KELAS PERSEDIAAN MENJAWAB EXAM ONLINE
DESCRIPTION:
URL:https://kgpantaimerchang.nadi.my/event/kelas-persediaan-menjawab-exam-online-2/
CATEGORIES:DEFAULT
END:VEVENT
BEGIN:VEVENT
DTSTART;TZID=UTC:20221212T090000
DTEND;TZID=UTC:20221212T170000
DTSTAMP:20260424T151708
CREATED:20221124T181817Z
LAST-MODIFIED:20221124T181817Z
UID:5698-1670835600-1670864400@kgpantaimerchang.nadi.my
SUMMARY:KELAS PERSEDIAAN MENJAWAB EXAM ONLINE
DESCRIPTION:
URL:https://kgpantaimerchang.nadi.my/event/kelas-persediaan-menjawab-exam-online/
CATEGORIES:DEFAULT
END:VEVENT
BEGIN:VEVENT
DTSTART;TZID=UTC:20221217T090000
DTEND;TZID=UTC:20221217T170000
DTSTAMP:20260424T151708
CREATED:20221124T181852Z
LAST-MODIFIED:20221124T181852Z
UID:5983-1671267600-1671296400@kgpantaimerchang.nadi.my
SUMMARY:KELAS MEMBUAT KERJA KURSUS
DESCRIPTION:
URL:https://kgpantaimerchang.nadi.my/event/kelas-membuat-kerja-kursus-3/
CATEGORIES:DEFAULT
END:VEVENT
BEGIN:VEVENT
DTSTART;TZID=UTC:20221217T090000
DTEND;TZID=UTC:20221217T170000
DTSTAMP:20260424T151708
CREATED:20221124T181852Z
LAST-MODIFIED:20221124T181852Z
UID:5884-1671267600-1671296400@kgpantaimerchang.nadi.my
SUMMARY:KELAS MEMBUAT KERJA KURSUS
DESCRIPTION:
URL:https://kgpantaimerchang.nadi.my/event/kelas-membuat-kerja-kursus-2/
CATEGORIES:DEFAULT
END:VEVENT
BEGIN:VEVENT
DTSTART;TZID=UTC:20221217T090000
DTEND;TZID=UTC:20221217T170000
DTSTAMP:20260424T151708
CREATED:20221124T181852Z
LAST-MODIFIED:20221124T181852Z
UID:5699-1671267600-1671296400@kgpantaimerchang.nadi.my
SUMMARY:KELAS MEMBUAT KERJA KURSUS
DESCRIPTION:
URL:https://kgpantaimerchang.nadi.my/event/kelas-membuat-kerja-kursus/
CATEGORIES:DEFAULT
END:VEVENT
BEGIN:VEVENT
DTSTART;TZID=UTC:20221226T090000
DTEND;TZID=UTC:20221226T170000
DTSTAMP:20260424T151708
CREATED:20221124T181926Z
LAST-MODIFIED:20221124T181926Z
UID:5984-1672045200-1672074000@kgpantaimerchang.nadi.my
SUMMARY:KELAS USAHAWAN BARU
DESCRIPTION:
URL:https://kgpantaimerchang.nadi.my/event/kelas-usahawan-baru-3/
CATEGORIES:DEFAULT
END:VEVENT
BEGIN:VEVENT
DTSTART;TZID=UTC:20221226T090000
DTEND;TZID=UTC:20221226T170000
DTSTAMP:20260424T151708
CREATED:20221124T181926Z
LAST-MODIFIED:20221124T181926Z
UID:5885-1672045200-1672074000@kgpantaimerchang.nadi.my
SUMMARY:KELAS USAHAWAN BARU
DESCRIPTION:
URL:https://kgpantaimerchang.nadi.my/event/kelas-usahawan-baru-2/
CATEGORIES:DEFAULT
END:VEVENT
BEGIN:VEVENT
DTSTART;TZID=UTC:20221226T090000
DTEND;TZID=UTC:20221226T170000
DTSTAMP:20260424T151708
CREATED:20221124T181926Z
LAST-MODIFIED:20221124T181926Z
UID:5700-1672045200-1672074000@kgpantaimerchang.nadi.my
SUMMARY:KELAS USAHAWAN BARU
DESCRIPTION:
URL:https://kgpantaimerchang.nadi.my/event/kelas-usahawan-baru/
CATEGORIES:DEFAULT
END:VEVENT
END:VCALENDAR