BEGIN:VCALENDAR
VERSION:2.0
PRODID:-//NADI Kampung Pantai Merchang - ECPv6.15.20//NONSGML v1.0//EN
CALSCALE:GREGORIAN
METHOD:PUBLISH
X-ORIGINAL-URL:https://kgpantaimerchang.nadi.my
X-WR-CALDESC:Events for NADI Kampung Pantai Merchang
REFRESH-INTERVAL;VALUE=DURATION:PT1H
X-Robots-Tag:noindex
X-PUBLISHED-TTL:PT1H
BEGIN:VTIMEZONE
TZID:UTC
BEGIN:STANDARD
TZOFFSETFROM:+0000
TZOFFSETTO:+0000
TZNAME:UTC
DTSTART:20220101T000000
END:STANDARD
END:VTIMEZONE
BEGIN:VEVENT
DTSTART;TZID=UTC:20231027T080000
DTEND;TZID=UTC:20231027T170000
DTSTAMP:20260420T092004
CREATED:20231007T182841Z
LAST-MODIFIED:20231007T182841Z
UID:5751-1698393600-1698426000@kgpantaimerchang.nadi.my
SUMMARY:KELAS ASAS SHOPEE
DESCRIPTION:
URL:https://kgpantaimerchang.nadi.my/event/kelas-asas-shopee-2/
CATEGORIES:DEFAULT
END:VEVENT
BEGIN:VEVENT
DTSTART;TZID=UTC:20231027T080000
DTEND;TZID=UTC:20231027T170000
DTSTAMP:20260420T092004
CREATED:20231007T182841Z
LAST-MODIFIED:20231007T182841Z
UID:5936-1698393600-1698426000@kgpantaimerchang.nadi.my
SUMMARY:KELAS ASAS SHOPEE
DESCRIPTION:
URL:https://kgpantaimerchang.nadi.my/event/kelas-asas-shopee-7/
CATEGORIES:DEFAULT
END:VEVENT
BEGIN:VEVENT
DTSTART;TZID=UTC:20231027T080000
DTEND;TZID=UTC:20231027T170000
DTSTAMP:20260420T092004
CREATED:20231007T182841Z
LAST-MODIFIED:20231007T182841Z
UID:6035-1698393600-1698426000@kgpantaimerchang.nadi.my
SUMMARY:KELAS ASAS SHOPEE
DESCRIPTION:
URL:https://kgpantaimerchang.nadi.my/event/kelas-asas-shopee-12/
CATEGORIES:DEFAULT
END:VEVENT
END:VCALENDAR