BEGIN:VCALENDAR
VERSION:2.0
PRODID:-//NADI Kampung Pantai Merchang - ECPv6.15.20//NONSGML v1.0//EN
CALSCALE:GREGORIAN
METHOD:PUBLISH
X-WR-CALNAME:NADI Kampung Pantai Merchang
X-ORIGINAL-URL:https://kgpantaimerchang.nadi.my
X-WR-CALDESC:Events for NADI Kampung Pantai Merchang
REFRESH-INTERVAL;VALUE=DURATION:PT1H
X-Robots-Tag:noindex
X-PUBLISHED-TTL:PT1H
BEGIN:VTIMEZONE
TZID:UTC
BEGIN:STANDARD
TZOFFSETFROM:+0000
TZOFFSETTO:+0000
TZNAME:UTC
DTSTART:20220101T000000
END:STANDARD
END:VTIMEZONE
BEGIN:VEVENT
DTSTART;TZID=UTC:20230822T110000
DTEND;TZID=UTC:20230822T120000
DTSTAMP:20260420T133109
CREATED:20230729T201937Z
LAST-MODIFIED:20230729T201937Z
UID:5737-1692702000-1692705600@kgpantaimerchang.nadi.my
SUMMARY:ENTERING THE JOB MARKET – RESUME WRITING
DESCRIPTION:
URL:https://kgpantaimerchang.nadi.my/event/entering-the-job-market-resume-writing-2/
CATEGORIES:DEFAULT
END:VEVENT
BEGIN:VEVENT
DTSTART;TZID=UTC:20230822T110000
DTEND;TZID=UTC:20230822T120000
DTSTAMP:20260420T133109
CREATED:20230729T201937Z
LAST-MODIFIED:20230729T201937Z
UID:5922-1692702000-1692705600@kgpantaimerchang.nadi.my
SUMMARY:ENTERING THE JOB MARKET – RESUME WRITING
DESCRIPTION:
URL:https://kgpantaimerchang.nadi.my/event/entering-the-job-market-resume-writing-5/
CATEGORIES:DEFAULT
END:VEVENT
BEGIN:VEVENT
DTSTART;TZID=UTC:20230822T110000
DTEND;TZID=UTC:20230822T120000
DTSTAMP:20260420T133109
CREATED:20230729T201937Z
LAST-MODIFIED:20230729T201937Z
UID:6021-1692702000-1692705600@kgpantaimerchang.nadi.my
SUMMARY:ENTERING THE JOB MARKET – RESUME WRITING
DESCRIPTION:
URL:https://kgpantaimerchang.nadi.my/event/entering-the-job-market-resume-writing-8/
CATEGORIES:DEFAULT
END:VEVENT
END:VCALENDAR