BEGIN:VCALENDAR
VERSION:2.0
PRODID:-//NADI Kampung Pantai Merchang - ECPv6.15.20//NONSGML v1.0//EN
CALSCALE:GREGORIAN
METHOD:PUBLISH
X-ORIGINAL-URL:https://kgpantaimerchang.nadi.my
X-WR-CALDESC:Events for NADI Kampung Pantai Merchang
REFRESH-INTERVAL;VALUE=DURATION:PT1H
X-Robots-Tag:noindex
X-PUBLISHED-TTL:PT1H
BEGIN:VTIMEZONE
TZID:UTC
BEGIN:STANDARD
TZOFFSETFROM:+0000
TZOFFSETTO:+0000
TZNAME:UTC
DTSTART:20220101T000000
END:STANDARD
END:VTIMEZONE
BEGIN:VEVENT
DTSTART;TZID=UTC:20230629T090000
DTEND;TZID=UTC:20230629T170000
DTSTAMP:20260420T130024
CREATED:20230427T231539Z
LAST-MODIFIED:20230427T231539Z
UID:5720-1688029200-1688058000@kgpantaimerchang.nadi.my
SUMMARY:KELAS ASAS POWER POINT
DESCRIPTION:
URL:https://kgpantaimerchang.nadi.my/event/kelas-asas-power-point/
CATEGORIES:DEFAULT
END:VEVENT
BEGIN:VEVENT
DTSTART;TZID=UTC:20230629T090000
DTEND;TZID=UTC:20230629T170000
DTSTAMP:20260420T130024
CREATED:20230427T231539Z
LAST-MODIFIED:20230427T231539Z
UID:5905-1688029200-1688058000@kgpantaimerchang.nadi.my
SUMMARY:KELAS ASAS POWER POINT
DESCRIPTION:
URL:https://kgpantaimerchang.nadi.my/event/kelas-asas-power-point-2/
CATEGORIES:DEFAULT
END:VEVENT
BEGIN:VEVENT
DTSTART;TZID=UTC:20230629T090000
DTEND;TZID=UTC:20230629T170000
DTSTAMP:20260420T130024
CREATED:20230427T231539Z
LAST-MODIFIED:20230427T231539Z
UID:6004-1688029200-1688058000@kgpantaimerchang.nadi.my
SUMMARY:KELAS ASAS POWER POINT
DESCRIPTION:
URL:https://kgpantaimerchang.nadi.my/event/kelas-asas-power-point-3/
CATEGORIES:DEFAULT
END:VEVENT
BEGIN:VEVENT
DTSTART;TZID=UTC:20230629T090000
DTEND;TZID=UTC:20230629T170000
DTSTAMP:20260420T130024
CREATED:20230527T185419Z
LAST-MODIFIED:20230527T185419Z
UID:6009-1688029200-1688058000@kgpantaimerchang.nadi.my
SUMMARY:KELAS MEMBUAT RESUME
DESCRIPTION:
URL:https://kgpantaimerchang.nadi.my/event/kelas-membuat-resume-15/
CATEGORIES:DEFAULT
END:VEVENT
BEGIN:VEVENT
DTSTART;TZID=UTC:20230629T090000
DTEND;TZID=UTC:20230629T170000
DTSTAMP:20260420T130024
CREATED:20230527T185419Z
LAST-MODIFIED:20230527T185419Z
UID:5725-1688029200-1688058000@kgpantaimerchang.nadi.my
SUMMARY:KELAS MEMBUAT RESUME
DESCRIPTION:
URL:https://kgpantaimerchang.nadi.my/event/kelas-membuat-resume-3/
CATEGORIES:DEFAULT
END:VEVENT
BEGIN:VEVENT
DTSTART;TZID=UTC:20230629T090000
DTEND;TZID=UTC:20230629T170000
DTSTAMP:20260420T130024
CREATED:20230527T185419Z
LAST-MODIFIED:20230527T185419Z
UID:5910-1688029200-1688058000@kgpantaimerchang.nadi.my
SUMMARY:KELAS MEMBUAT RESUME
DESCRIPTION:
URL:https://kgpantaimerchang.nadi.my/event/kelas-membuat-resume-9/
CATEGORIES:DEFAULT
END:VEVENT
END:VCALENDAR