BEGIN:VCALENDAR
VERSION:2.0
PRODID:-//NADI Kampung Pantai Merchang - ECPv6.15.20//NONSGML v1.0//EN
CALSCALE:GREGORIAN
METHOD:PUBLISH
X-WR-CALNAME:NADI Kampung Pantai Merchang
X-ORIGINAL-URL:https://kgpantaimerchang.nadi.my
X-WR-CALDESC:Events for NADI Kampung Pantai Merchang
REFRESH-INTERVAL;VALUE=DURATION:PT1H
X-Robots-Tag:noindex
X-PUBLISHED-TTL:PT1H
BEGIN:VTIMEZONE
TZID:UTC
BEGIN:STANDARD
TZOFFSETFROM:+0000
TZOFFSETTO:+0000
TZNAME:UTC
DTSTART:20220101T000000
END:STANDARD
END:VTIMEZONE
BEGIN:VEVENT
DTSTART;TZID=UTC:20230624T090000
DTEND;TZID=UTC:20230624T170000
DTSTAMP:20260420T112643
CREATED:20230527T185325Z
LAST-MODIFIED:20230527T185325Z
UID:5724-1687597200-1687626000@kgpantaimerchang.nadi.my
SUMMARY:KELAS ASAS USAHAWAN BARU (SHOPEE)
DESCRIPTION:
URL:https://kgpantaimerchang.nadi.my/event/kelas-asas-usahawan-baru-shopee/
CATEGORIES:DEFAULT
END:VEVENT
BEGIN:VEVENT
DTSTART;TZID=UTC:20230624T090000
DTEND;TZID=UTC:20230624T170000
DTSTAMP:20260420T112643
CREATED:20230527T185325Z
LAST-MODIFIED:20230527T185325Z
UID:5909-1687597200-1687626000@kgpantaimerchang.nadi.my
SUMMARY:KELAS ASAS USAHAWAN BARU (SHOPEE)
DESCRIPTION:
URL:https://kgpantaimerchang.nadi.my/event/kelas-asas-usahawan-baru-shopee-2/
CATEGORIES:DEFAULT
END:VEVENT
BEGIN:VEVENT
DTSTART;TZID=UTC:20230624T090000
DTEND;TZID=UTC:20230624T170000
DTSTAMP:20260420T112643
CREATED:20230527T185325Z
LAST-MODIFIED:20230527T185325Z
UID:6008-1687597200-1687626000@kgpantaimerchang.nadi.my
SUMMARY:KELAS ASAS USAHAWAN BARU (SHOPEE)
DESCRIPTION:
URL:https://kgpantaimerchang.nadi.my/event/kelas-asas-usahawan-baru-shopee-3/
CATEGORIES:DEFAULT
END:VEVENT
END:VCALENDAR