BEGIN:VCALENDAR
VERSION:2.0
PRODID:-//NADI Kampung Pantai Merchang - ECPv6.15.20//NONSGML v1.0//EN
CALSCALE:GREGORIAN
METHOD:PUBLISH
X-WR-CALNAME:NADI Kampung Pantai Merchang
X-ORIGINAL-URL:https://kgpantaimerchang.nadi.my
X-WR-CALDESC:Events for NADI Kampung Pantai Merchang
REFRESH-INTERVAL;VALUE=DURATION:PT1H
X-Robots-Tag:noindex
X-PUBLISHED-TTL:PT1H
BEGIN:VTIMEZONE
TZID:UTC
BEGIN:STANDARD
TZOFFSETFROM:+0000
TZOFFSETTO:+0000
TZNAME:UTC
DTSTART:20220101T000000
END:STANDARD
END:VTIMEZONE
BEGIN:VEVENT
DTSTART;TZID=UTC:20230503T090000
DTEND;TZID=UTC:20230503T170000
DTSTAMP:20260419T211832
CREATED:20230427T231232Z
LAST-MODIFIED:20230427T231232Z
UID:5716-1683104400-1683133200@kgpantaimerchang.nadi.my
SUMMARY:KELAS ICT SEKOLAH RENDAH
DESCRIPTION:
URL:https://kgpantaimerchang.nadi.my/event/kelas-ict-sekolah-rendah/
CATEGORIES:DEFAULT
END:VEVENT
BEGIN:VEVENT
DTSTART;TZID=UTC:20230503T090000
DTEND;TZID=UTC:20230503T170000
DTSTAMP:20260419T211832
CREATED:20230427T231232Z
LAST-MODIFIED:20230427T231232Z
UID:5901-1683104400-1683133200@kgpantaimerchang.nadi.my
SUMMARY:KELAS ICT SEKOLAH RENDAH
DESCRIPTION:
URL:https://kgpantaimerchang.nadi.my/event/kelas-ict-sekolah-rendah-2/
CATEGORIES:DEFAULT
END:VEVENT
BEGIN:VEVENT
DTSTART;TZID=UTC:20230503T090000
DTEND;TZID=UTC:20230503T170000
DTSTAMP:20260419T211832
CREATED:20230427T231232Z
LAST-MODIFIED:20230427T231232Z
UID:6000-1683104400-1683133200@kgpantaimerchang.nadi.my
SUMMARY:KELAS ICT SEKOLAH RENDAH
DESCRIPTION:
URL:https://kgpantaimerchang.nadi.my/event/kelas-ict-sekolah-rendah-3/
CATEGORIES:DEFAULT
END:VEVENT
END:VCALENDAR