BEGIN:VCALENDAR
VERSION:2.0
PRODID:-//NADI Kampung Pantai Merchang - ECPv6.15.20//NONSGML v1.0//EN
CALSCALE:GREGORIAN
METHOD:PUBLISH
X-WR-CALNAME:NADI Kampung Pantai Merchang
X-ORIGINAL-URL:https://kgpantaimerchang.nadi.my
X-WR-CALDESC:Events for NADI Kampung Pantai Merchang
REFRESH-INTERVAL;VALUE=DURATION:PT1H
X-Robots-Tag:noindex
X-PUBLISHED-TTL:PT1H
BEGIN:VTIMEZONE
TZID:UTC
BEGIN:STANDARD
TZOFFSETFROM:+0000
TZOFFSETTO:+0000
TZNAME:UTC
DTSTART:20220101T000000
END:STANDARD
END:VTIMEZONE
BEGIN:VEVENT
DTSTART;TZID=UTC:20230316T090000
DTEND;TZID=UTC:20230316T170000
DTSTAMP:20260422T154132
CREATED:20230223T171644Z
LAST-MODIFIED:20230223T171644Z
UID:5709-1678957200-1678986000@kgpantaimerchang.nadi.my
SUMMARY:LATIHAN USAHAWAN BARU
DESCRIPTION:
URL:https://kgpantaimerchang.nadi.my/event/latihan-usahawan-baru/
CATEGORIES:DEFAULT
END:VEVENT
BEGIN:VEVENT
DTSTART;TZID=UTC:20230316T090000
DTEND;TZID=UTC:20230316T170000
DTSTAMP:20260422T154132
CREATED:20230223T171644Z
LAST-MODIFIED:20230223T171644Z
UID:5894-1678957200-1678986000@kgpantaimerchang.nadi.my
SUMMARY:LATIHAN USAHAWAN BARU
DESCRIPTION:
URL:https://kgpantaimerchang.nadi.my/event/latihan-usahawan-baru-2/
CATEGORIES:DEFAULT
END:VEVENT
BEGIN:VEVENT
DTSTART;TZID=UTC:20230316T090000
DTEND;TZID=UTC:20230316T170000
DTSTAMP:20260422T154132
CREATED:20230223T171644Z
LAST-MODIFIED:20230223T171644Z
UID:5993-1678957200-1678986000@kgpantaimerchang.nadi.my
SUMMARY:LATIHAN USAHAWAN BARU
DESCRIPTION:
URL:https://kgpantaimerchang.nadi.my/event/latihan-usahawan-baru-3/
CATEGORIES:DEFAULT
END:VEVENT
END:VCALENDAR