BEGIN:VCALENDAR
VERSION:2.0
PRODID:-//NADI Kampung Pantai Merchang - ECPv6.15.20//NONSGML v1.0//EN
CALSCALE:GREGORIAN
METHOD:PUBLISH
X-WR-CALNAME:NADI Kampung Pantai Merchang
X-ORIGINAL-URL:https://kgpantaimerchang.nadi.my
X-WR-CALDESC:Events for NADI Kampung Pantai Merchang
REFRESH-INTERVAL;VALUE=DURATION:PT1H
X-Robots-Tag:noindex
X-PUBLISHED-TTL:PT1H
BEGIN:VTIMEZONE
TZID:UTC
BEGIN:STANDARD
TZOFFSETFROM:+0000
TZOFFSETTO:+0000
TZNAME:UTC
DTSTART:20210101T000000
END:STANDARD
END:VTIMEZONE
BEGIN:VEVENT
DTSTART;TZID=UTC:20221212T090000
DTEND;TZID=UTC:20221212T170000
DTSTAMP:20260425T113426
CREATED:20221124T181817Z
LAST-MODIFIED:20221124T181817Z
UID:5698-1670835600-1670864400@kgpantaimerchang.nadi.my
SUMMARY:KELAS PERSEDIAAN MENJAWAB EXAM ONLINE
DESCRIPTION:
URL:https://kgpantaimerchang.nadi.my/event/kelas-persediaan-menjawab-exam-online/
CATEGORIES:DEFAULT
END:VEVENT
BEGIN:VEVENT
DTSTART;TZID=UTC:20221212T090000
DTEND;TZID=UTC:20221212T170000
DTSTAMP:20260425T113426
CREATED:20221124T181817Z
LAST-MODIFIED:20221124T181817Z
UID:5883-1670835600-1670864400@kgpantaimerchang.nadi.my
SUMMARY:KELAS PERSEDIAAN MENJAWAB EXAM ONLINE
DESCRIPTION:
URL:https://kgpantaimerchang.nadi.my/event/kelas-persediaan-menjawab-exam-online-2/
CATEGORIES:DEFAULT
END:VEVENT
BEGIN:VEVENT
DTSTART;TZID=UTC:20221212T090000
DTEND;TZID=UTC:20221212T170000
DTSTAMP:20260425T113426
CREATED:20221124T181817Z
LAST-MODIFIED:20221124T181817Z
UID:5982-1670835600-1670864400@kgpantaimerchang.nadi.my
SUMMARY:KELAS PERSEDIAAN MENJAWAB EXAM ONLINE
DESCRIPTION:
URL:https://kgpantaimerchang.nadi.my/event/kelas-persediaan-menjawab-exam-online-3/
CATEGORIES:DEFAULT
END:VEVENT
END:VCALENDAR